BEGIN:VCALENDAR
VERSION:2.0
CALSCALE:GREGORIAN
BEGIN:VEVENT
SUMMARY:Yoga sur chaise : 20€ - 1er cours gratuit
DTSTART;TZID=Europe/Brussels:20260511T134500
DTEND;TZID=Europe/Brussels:20260511T144500
LOCATION:Dôme
DESCRIPTION: 
STATUS:CONFIRMED
SEQUENCE:0
END:VEVENT
END:VCALENDAR