BEGIN:VCALENDAR
VERSION:2.0
CALSCALE:GREGORIAN
BEGIN:VEVENT
SUMMARY:Restorative
DTSTART;TZID=America/Chicago:20220611T093000
DTEND;TZID=America/Chicago:20220611T103000
LOCATION:4DogsDown Yoga
DESCRIPTION: Restorative Yoga focuses on slowing down and integrating the breath with the body. Expect few asanas with long hold times and extensive use of props. Slow the mind, body, and breath to release mental, emotional, and physical tension. All skill levels are welcome.
STATUS:CONFIRMED
SEQUENCE:0
END:VEVENT
END:VCALENDAR