BEGIN:VCALENDAR
VERSION:2.0
CALSCALE:GREGORIAN
BEGIN:VEVENT
SUMMARY:Therapeutic Yoga Workshop: High Blood Pressure - 19 Feb 2022
DTSTART;TZID=America/Chicago:20220219T140000
DTEND;TZID=America/Chicago:20220219T153000
LOCATION:8730 Timber Range
DESCRIPTION: Designed for people living with chronic illnesses, these workshops will focus on a different chronic illness each 3rd Saturday. We will work through poses designed to regulate chronic processes and/or improve body function, short meditations to assist in managing stress and improving mental function, and breath work to connect body to mind. Each workshop will conclude with a guided meditation for deep relaxation and an opportunity to discuss what we&#039;ve learned.
STATUS:CONFIRMED
SEQUENCE:0
END:VEVENT
END:VCALENDAR