BEGIN:VCALENDAR
VERSION:2.0
CALSCALE:GREGORIAN
BEGIN:VEVENT
SUMMARY:Raum verfügbar
DTSTART;TZID=Europe/Berlin:20231221T200000
DTEND;TZID=Europe/Berlin:20231221T210000
LOCATION:Nördlicher Stadtgraben 12/Innenhof 94469 Deggendorf
DESCRIPTION: Wir treffen uns vorher um 18:30 Uhr für eine Runde am Christkindlmarkt. Treffpunkt ist der Eingang Metzgergasse vom oberen Stadtplatz.
STATUS:CONFIRMED
SEQUENCE:0
END:VEVENT
END:VCALENDAR