BEGIN:VCALENDAR
VERSION:2.0
CALSCALE:GREGORIAN
BEGIN:VEVENT
SUMMARY:NDSM - 5Rhythms - Magic Monday
DTSTART;TZID=Europe/Amsterdam:20260518T193000
DTEND;TZID=Europe/Amsterdam:20260518T210000
LOCATION:NDSM
DESCRIPTION: Your body is a gateway to experience deep states of bliss and ecstasy. One of the ways to experience that is through dancing.

The 5Rhythms are a powerful tool to explore this gateway. The “wave,” as we call the sequence of the 5Rhythms naturally takes us on a journey. The different Rhythms offer a profound set of physical tools to deepen our dance in each rhythms.

Every week we&#039;ll explore one of the rhythms and the specific body language of that rhythm.
You can follow the classes seperately.

Series start on September 15th and end at October 30th.
If you decide to buy the whole series, you can switch between different dates and venues.

You&#039;re welcome just the way you are.

NDSM plein 139 (in the big NDSM hal)
next to cafe IJVER you&#039;ll find a bit to the right the big entrance door.

There will be somebody from 19:15 to welcome you and tell you where you&#039;ll find the studio.

The picture shows the entrance door of the hall.
STATUS:CONFIRMED
SEQUENCE:0
END:VEVENT
END:VCALENDAR