BEGIN:VCALENDAR
VERSION:2.0
CALSCALE:GREGORIAN
BEGIN:VEVENT
SUMMARY:ONLINE - The Bodylanguage of Ecstacy - 7 week series to deepen your dance
DTSTART;TZID=Europe/Amsterdam:20251014T193000
DTEND;TZID=Europe/Amsterdam:20251014T210000
LOCATION:Pedro de Medinalaan 98
DESCRIPTION: Your body is a gateway to experience deep states of bliss and ecstasy. One of the ways to experience that is through dancing.

The 5Rhythms are a powerful tool to explore this gateway. The “wave,” as we call the sequence of the 5Rhythms naturally takes us on a journey. The different Rhythms offer a profound set of physical tools to deepen our dance in each rhythms.

Every week we&#039;ll explore one of the rhythms and the specific body language of that rhythm.

The classes are online on Tuesdays
19:30 - 21:00 CET / 1:30 PM EDT / 10:30 AM PDT
September 16, 23, 30
Oktober 7, 14, 21, 28

You&#039;ll get acces to the sound recording of the class for 2 weeks after the class if you book the whole series.

You can add an extra livestream of the one of the classes in Amsterdam (monday / wednesday and friday) per week in the same weeks.
See the schedule here
STATUS:CONFIRMED
SEQUENCE:0
END:VEVENT
END:VCALENDAR