BEGIN:VCALENDAR
VERSION:2.0
CALSCALE:GREGORIAN
BEGIN:VEVENT
SUMMARY:Baby Yoga
DTSTART;TZID=Europe/Amsterdam:20250611T093000
DTEND;TZID=Europe/Amsterdam:20250611T110000
LOCATION:711 Studio
DESCRIPTION: Een fijne yogales voor jou en je baby. Eén keer per week een moment samen, in verbinding met je baby, jezelf en andere moeders.

Oefeningen met én voor jouw baby, die krampjes kunnen verlichten, het hechtingsproces kunnen ondersteunen en de motorische ontwikkeling prikkelen. Oefeningen voor jou met aandacht voor het herstel na een zwangerschap en bevalling. Ervaring met yoga is niet nodig.
STATUS:CONFIRMED
SEQUENCE:0
END:VEVENT
END:VCALENDAR