BEGIN:VCALENDAR
VERSION:2.0
CALSCALE:GREGORIAN
BEGIN:VEVENT
SUMMARY:BEGINNERS ASHTANGA YOGA
DTSTART;TZID=Australia/Sydney:20210508T091500
DTEND;TZID=Australia/Sydney:20210508T101500
LOCATION:Bundeena, THE COMMUNITY HALL
DESCRIPTION: A friendly and safe approach to a strong and powerful yoga practice. Everyone is welcome to this step-by-step approach to developing your yoga practice. Breathe better. Lengthen and strengthen muscles. Learn to be comfortable with stillness. This is a perfect class for the person that has never done yoga before.
STATUS:CONFIRMED
SEQUENCE:0
END:VEVENT
END:VCALENDAR