BEGIN:VCALENDAR
VERSION:2.0
CALSCALE:GREGORIAN
BEGIN:VEVENT
SUMMARY:KIDS Growth mindset avonturen
DTSTART;TZID=Europe/Amsterdam:20251112T150000
DTEND;TZID=Europe/Amsterdam:20251112T160000
LOCATION:Toolenburgseplas
DESCRIPTION: ✨ Elke week een nieuw avontuur in de familieschool.✨

Soms creatief, soms actief, maar altijd verrassend en leuk.
We ontdekken dat fouten maken mag, dat je door oefenen steeds beter wordt, en dat doorzetten loont.
We vieren kleine successen, groeien met plezier, en maken verbinding met onszelf, met elkaar en met de wereld om ons heen — zodat iedereen kan bloeien in zijn eigen tempo. 🌱
Je mag ontdekken wat er in jouw gouden hart leeft,
het delen met de wereld,
en zo in verbinding blijven met jezelf en je omgeving.

Just be you — you are unique!
STATUS:CONFIRMED
SEQUENCE:0
END:VEVENT
END:VCALENDAR