BEGIN:VCALENDAR
VERSION:2.0
CALSCALE:GREGORIAN
BEGIN:VEVENT
SUMMARY:Atelier Broderie 💕
DTSTART;TZID=Europe/Zurich:20250628T160000
DTEND;TZID=Europe/Zurich:20250628T183000
LOCATION:Route du Stand 70 - 1260 Nyon
DESCRIPTION: Apprendre et découvrir différents points de broderie pour pouvoir créer un dessin sur un tissu 🪡

La broderie est elle aussi une pratique qui ramène au corps, une pratique ancestrale pour venir décorer, customiser, personnalisé un vêtement, un habit ✂️

Utiliser la broderie pour donner des messages , du peps, un renouveau à ses vêtements 🧵
STATUS:CONFIRMED
SEQUENCE:0
END:VEVENT
END:VCALENDAR