BEGIN:VCALENDAR
VERSION:2.0
CALSCALE:GREGORIAN
BEGIN:VEVENT
SUMMARY:Cérémonie Cacao &amp; Atelier poterie 🍵🤎
DTSTART;TZID=Europe/Zurich:20250812T183000
DTEND;TZID=Europe/Zurich:20250812T210000
LOCATION:Route du Stand 70 - 1260 Nyon
DESCRIPTION: Un espace pour retourner au corps, au coeur et à l&#039;âme 🔅
STATUS:CONFIRMED
SEQUENCE:0
END:VEVENT
END:VCALENDAR