BEGIN:VCALENDAR
VERSION:2.0
CALSCALE:GREGORIAN
BEGIN:VEVENT
SUMMARY:Barre au sol 🌟
DTSTART;TZID=Europe/Paris:20250324T090000
DTEND;TZID=Europe/Paris:20250324T100000
LOCATION:Le Cocon
DESCRIPTION: 🌟 Découvrez la barre au sol, un cours inspiré de la danse classique pour tonifier votre corps en douceur ! Accessible à toutes, il combine renforcement musculaire, assouplissements et amélioration de la posture, le tout au sol et sans impact. Profitez d’une silhouette affinée, d’une meilleure souplesse et d’un moment de sérénité grâce à des enchaînements fluides et apaisants. Pas besoin d’expérience, chaque séance s’adapte à votre niveau. ✨ Réservez votre place et révélez votre grâce naturelle ! 💃
STATUS:CONFIRMED
SEQUENCE:0
END:VEVENT
END:VCALENDAR