BEGIN:VCALENDAR
VERSION:2.0
CALSCALE:GREGORIAN
BEGIN:VEVENT
SUMMARY:Stretching 🤸🏼
DTSTART;TZID=Europe/Paris:20250329T124500
DTEND;TZID=Europe/Paris:20250329T134500
LOCATION:Le Cocon
DESCRIPTION: Offrez à votre corps une pause bien méritée avec le stretching, l’art d’étirer et de relâcher les tensions ! Cette pratique douce améliore votre souplesse, libère les tensions musculaires et favorise une meilleure posture. Idéal pour détendre un corps fatigué ou raide, il vous aide à bouger avec plus d’aisance et à réduire les risques de blessures. Accessible à tous, chaque séance est un moment de bien-être qui reconnecte corps et esprit. ✨ Rejoignez-nous pour un instant de douceur et de légèreté, rien que pour vous ! 🌿
STATUS:CONFIRMED
SEQUENCE:0
END:VEVENT
END:VCALENDAR