BEGIN:VCALENDAR
VERSION:2.0
CALSCALE:GREGORIAN
BEGIN:VEVENT
SUMMARY:YOGA sur chaise: liste de pré-inscriptions pour cours d&#039;essai.
DTSTART;TZID=Europe/Paris:20251007T160000
DTEND;TZID=Europe/Paris:20251007T165000
LOCATION:
DESCRIPTION: Nouveau cours au planning, celui ci  pourra s&#039;ouvrir dès qu&#039;il y aura au moins 3 personnes d&#039;intéressées.
En vous inscrivant sur cette liste, vous serez prévenus dès que le cours pourra avoir lieu.
Plus d&#039;informations pilates.yoga.montauban@gmail.com 
Vous cherchez une pratique douce, efficace et simple à installer dans votre quotidien ?
Le yoga sur chaise est fait pour vous.
Nous travaillerons notre respiration et notre corps afin de le tonifier et de l&#039;assouplir.
Un moment de relaxation clôturera toujours la séance pour repartir apaisé et rechargé.
STATUS:CONFIRMED
SEQUENCE:0
END:VEVENT
END:VCALENDAR