BEGIN:VCALENDAR
VERSION:2.0
CALSCALE:GREGORIAN
BEGIN:VEVENT
SUMMARY:Pilates met Nadine
DTSTART;TZID=Europe/Amsterdam:20200226T100000
DTEND;TZID=Europe/Amsterdam:20200226T110000
LOCATION:Studio Realign
DESCRIPTION: Pilates classes for beginners - advanced
STATUS:CONFIRMED
SEQUENCE:0
END:VEVENT
END:VCALENDAR