BEGIN:VCALENDAR
VERSION:2.0
CALSCALE:GREGORIAN
BEGIN:VEVENT
SUMMARY:Vinyasa Flow
DTSTART;TZID=Europe/London:20190904T193000
DTEND;TZID=Europe/London:20190904T204500
LOCATION:Turley Farm Barn, Turley Lane, Delly End, OX29 9XA
DESCRIPTION: This class is being covered by lovely Amy Malloy from No more Shoulds Yoga and Mindfulness and is held at the picturesque Turley Farm Barn in the heart of Oxfordshire. Amy is also a vinyasa flow teacher. 

Vinyasa flow combines beautiful yoga sequences to increase your strength, flexibility and stamina.
STATUS:CONFIRMED
SEQUENCE:0
END:VEVENT
END:VCALENDAR