BEGIN:VCALENDAR
VERSION:2.0
CALSCALE:GREGORIAN
BEGIN:VEVENT
SUMMARY:Introduction to inversions
DTSTART;TZID=Europe/London:20190526T130000
DTEND;TZID=Europe/London:20190526T150000
LOCATION:Turley Farm Barn, Turley Lane, Delly End, OX29 9XA
DESCRIPTION: A yoga workshop with Sara and Amy to challenge your assumptions and take you back to basics. 

Learn about your relationship with your body and how to build your strength to work safely towards a more advanced inversion practice. 

Come along whether you&#039;re relatively new to yoga or have a more advanced practice and want to check in with your habits and improve your technique.
STATUS:CONFIRMED
SEQUENCE:0
END:VEVENT
END:VCALENDAR