BEGIN:VCALENDAR
VERSION:2.0
CALSCALE:GREGORIAN
BEGIN:VEVENT
SUMMARY:Hatha, Yin &amp; meditatie.
DTSTART;TZID=Europe/Amsterdam:20200717T161500
DTEND;TZID=Europe/Amsterdam:20200717T173000
LOCATION:Oudegracht 243
DESCRIPTION: Speciale openingsles van de studio! 😊 iets minder mensen maar dezelfde energie. Deze les is gratis om te vieren dat we weer in de studio zijn.
STATUS:CONFIRMED
SEQUENCE:0
END:VEVENT
END:VCALENDAR