BEGIN:VCALENDAR
VERSION:2.0
CALSCALE:GREGORIAN
BEGIN:VEVENT
SUMMARY:Down to Earth, filmvertoning (gratis)
DTSTART;TZID=Europe/Amsterdam:20200103T200000
DTEND;TZID=Europe/Amsterdam:20200103T220000
LOCATION:werfkelder
DESCRIPTION: Met deze prachtige film openen we het nieuwe jaar bij Yoga Utrecht. Het is gratis dus wees er op tijd bij! 
Om 19:30 gaat de deur open voor een drankje.
STATUS:CONFIRMED
SEQUENCE:0
END:VEVENT
END:VCALENDAR