BEGIN:VCALENDAR
VERSION:2.0
CALSCALE:GREGORIAN
BEGIN:VEVENT
SUMMARY:ZwangerschapsYoga
DTSTART;TZID=Europe/Amsterdam:20241029T190000
DTEND;TZID=Europe/Amsterdam:20241029T200000
LOCATION:Slotlaan 136A
DESCRIPTION: 
STATUS:CONFIRMED
SEQUENCE:0
END:VEVENT
END:VCALENDAR