BEGIN:VCALENDAR
VERSION:2.0
CALSCALE:GREGORIAN
BEGIN:VEVENT
SUMMARY:PowerYoga, verplaatst naar de Rozenstraat!
DTSTART;TZID=Europe/Amsterdam:20241118T103000
DTEND;TZID=Europe/Amsterdam:20241118T113000
LOCATION:Rozenstraat
DESCRIPTION: 
STATUS:CONFIRMED
SEQUENCE:0
END:VEVENT
END:VCALENDAR