BEGIN:VCALENDAR
VERSION:2.0
CALSCALE:GREGORIAN
BEGIN:VEVENT
SUMMARY:PilatesYoga NIEUW
DTSTART;TZID=Europe/Amsterdam:20250708T181500
DTEND;TZID=Europe/Amsterdam:20250708T191500
LOCATION:Slotlaan
DESCRIPTION: 
STATUS:CONFIRMED
SEQUENCE:0
END:VEVENT
END:VCALENDAR