BEGIN:VCALENDAR
VERSION:2.0
CALSCALE:GREGORIAN
BEGIN:VEVENT
SUMMARY:ZwangerschapsYoga
DTSTART;TZID=Europe/Amsterdam:20250805T200000
DTEND;TZID=Europe/Amsterdam:20250805T210000
LOCATION:Slotlaan
DESCRIPTION: 
STATUS:CONFIRMED
SEQUENCE:0
END:VEVENT
END:VCALENDAR