BEGIN:VCALENDAR
VERSION:2.0
CALSCALE:GREGORIAN
BEGIN:VEVENT
SUMMARY:Fijn in je Vel- Familie Yogaworkshop  - &#039;laat los, laat gaan&#039;
DTSTART;TZID=Europe/Amsterdam:20151115T113000
DTEND;TZID=Europe/Amsterdam:20151115T123000
LOCATION:Slotlaan
DESCRIPTION: Workshop georganiseerd door Fijn in je Vel.
Voor ouders samen met hun kind(eren) van 9-12 jaar. Samen leer je meerdere yoga-trucjes om je te helpen loslaten. We sluiten deze workshop af door zelf een loslaatmandala te tekenen.
Inschrijven gaat per ouder-kind koppel. Kosten 17,50 euro + evt 5 euro voor 2e/3e kind.
STATUS:CONFIRMED
SEQUENCE:0
END:VEVENT
END:VCALENDAR