BEGIN:VCALENDAR
VERSION:2.0
CALSCALE:GREGORIAN
BEGIN:VEVENT
SUMMARY:Fijn in je Vel familieworkshop- SAMEN STERK
DTSTART;TZID=Europe/Amsterdam:20151122T113000
DTEND;TZID=Europe/Amsterdam:20151122T123000
LOCATION:Slotlaan
DESCRIPTION: Kom met je tiener en ontdek dat je samen sterker bent dan alleen. Teamworkyoga en weer die diepe verbinding  voelen.
LET OP: deze les kan alleen in koppels worden geboekt. Het is dus helaas niet mogelijk om met 1 ouder + twee kinderen deze workshop te volgen.
Inschrijven gaat per ouder-kind koppel. Kosten 17,50 euro. Nieuw:Je kunt pinnen voorafgaand aan de les.
STATUS:CONFIRMED
SEQUENCE:0
END:VEVENT
END:VCALENDAR