BEGIN:VCALENDAR
VERSION:2.0
CALSCALE:GREGORIAN
BEGIN:VEVENT
SUMMARY:Open middag Praktijk voor Reading en Healing
DTSTART;TZID=Europe/Amsterdam:20151031T140000
DTEND;TZID=Europe/Amsterdam:20151031T170000
LOCATION:Slotlaan
DESCRIPTION: Tijdens deze open middag biedt Merel de Jong korte readings en healings aan. Op die manier kun je zelf ervaren wat het nou precies is. Ben je nieuwsgierig? Kom dan langs! Deelname is gratis. Wel graag vooraf aanmelden via www.mereldejong.nl of door een mailtje te sturen naar welkom@mereldejong.nl
STATUS:CONFIRMED
SEQUENCE:0
END:VEVENT
END:VCALENDAR