BEGIN:VCALENDAR
VERSION:2.0
CALSCALE:GREGORIAN
BEGIN:VEVENT
SUMMARY:Thai Massage Class
DTSTART;TZID=Europe/Madrid:20240224T183000
DTEND;TZID=Europe/Madrid:20240224T200000
LOCATION:A Tempo Barcelona
DESCRIPTION: Enjoy an evening of touch and relaxation as I guide you through an easy to learn Thai Massage sequence that relieves stress, improves mobility, and promotes general wellness. You will give and receive a massage for about 30 minutes and will be paired with another person in class.

✦ Class will be taught in English.
✦ No partner is required.
✦ No previous experience is required

𝗪𝗛𝗔𝗧 𝗧𝗢 𝗕𝗥𝗜𝗡𝗚
Please wear comfortable clothing (exercise clothes are great) and bring a small blanket to cover yourself during the massage
STATUS:CONFIRMED
SEQUENCE:0
END:VEVENT
END:VCALENDAR