BEGIN:VCALENDAR
VERSION:2.0
CALSCALE:GREGORIAN
BEGIN:VEVENT
SUMMARY:Reiki behandeling of massage
DTSTART;TZID=Europe/Brussels:20260504T130000
DTEND;TZID=Europe/Brussels:20260504T143000
LOCATION:
DESCRIPTION: Een 1-op-1 Reiki-behandeling is een persoonlijke reis naar innerlijke heling en balans. Tijdens deze sessie ontvang je de zachte aanraking en helende energie van een ervaren Reiki-beoefenaar, die je lichaam en geest in harmonie brengt. Ontspan, laat spanning los en herstel je innerlijke rust en welzijn.
STATUS:CONFIRMED
SEQUENCE:0
END:VEVENT
END:VCALENDAR