BEGIN:VCALENDAR
VERSION:2.0
CALSCALE:GREGORIAN
BEGIN:VEVENT
SUMMARY:Atelier - Rituels de douceur féminine et Rebozo
DTSTART;TZID=Europe/Paris:20260306T183000
DTEND;TZID=Europe/Paris:20260306T203000
LOCATION:31 Rue de la Lourneau, 44230 Saint-Sébastien-sur-Loire
DESCRIPTION: Un atelier bien-être hors du temps dédié à toutes les femmes pour se reconnecter à son corps. Alternance de pratiques corporelles douces et de l&#039;expérience du Rebozo pour relâcher le mental, se recentrer et d&#039;expérimenter la détente profonde.  

Tarif : 35,00€ / personne, 6 places disponibles
STATUS:CONFIRMED
SEQUENCE:0
END:VEVENT
END:VCALENDAR