BEGIN:VCALENDAR
VERSION:2.0
CALSCALE:GREGORIAN
BEGIN:VEVENT
SUMMARY:Visio&#039;Mouv + | en visio
DTSTART;TZID=Europe/Paris:20260420T113000
DTEND;TZID=Europe/Paris:20260420T123000
LOCATION:
DESCRIPTION: Venez retrouver le plaisir de bouger grâce à des séances de cardio-renfo adaptées à vos capacités et à votre forme du jour. Rien de tel pour prendre de son corps, améliorer sa condition physique et profiter d&#039;un moment de bien-être ! Pensez à vous connecter 5 minutes avant la séance pour profiter pleinement de celle-ci.
STATUS:CONFIRMED
SEQUENCE:0
END:VEVENT
END:VCALENDAR