BEGIN:VCALENDAR
VERSION:2.0
CALSCALE:GREGORIAN
BEGIN:VEVENT
SUMMARY:Hatha Yoga Chakra Paloma Real (Eka Pada Raja Kapotasana)
DTSTART;TZID=Europe/Madrid:20231231T100000
DTEND;TZID=Europe/Madrid:20231231T110000
LOCATION:Zoom
DESCRIPTION: Material opcional: Cinturón y bloque.

En esta ocasión, trabajamos para llegar a una postura objetivo, la Paloma Real o “Eka pada raja kapotasana”.

Para ello trabajaremos en nuestros chakras más inferiores, consiguiendo una gran apertura de caderas. Pero también trabajaremos en los chakras algo más superiores, trabajando en la apertura de pecho. Para conseguir el objetivo de hoy, que será la Paloma Real.

Clase retadora, pero muy gratificante, que te dejará con una gran sensación de haber trabajado la totalidad de tu cuerpo.

Durante las asanas, realizamos Dham Pranayama, es un pranayama dinámico que nos ayuda a abrir más nuestro pecho.

Que la disfrutes!
STATUS:CONFIRMED
SEQUENCE:0
END:VEVENT
END:VCALENDAR