BEGIN:VCALENDAR
VERSION:2.0
CALSCALE:GREGORIAN
BEGIN:VEVENT
SUMMARY:Kundalini Yoga Kriya para la Renovación Interior
DTSTART;TZID=Europe/Madrid:20240213T173000
DTEND;TZID=Europe/Madrid:20240213T183000
LOCATION:On-Line / Clases en directo vía Zoom
DESCRIPTION: VÍDEO / DIRECTO

Clase de Kundalini Yoga para la renovación interior. Practica éste Kriya cuando no soportes seguir viviendo contigo mismo ningún instante más.

Practicamos la meditación con Kalesvara Mudra, mudra dedicado al dios Kalesvara, quien domina el tiempo. Este mudra hace que el tiempo no sea una amenaza y no nos ponga contra las cuerdas, sino que por el contrario lo convierte en un sinónimo de vastedad, calma y espacio.
STATUS:CONFIRMED
SEQUENCE:0
END:VEVENT
END:VCALENDAR