BEGIN:VCALENDAR
VERSION:2.0
CALSCALE:GREGORIAN
BEGIN:VEVENT
SUMMARY:Morning Retreat - Reset and Restore
DTSTART;TZID=Europe/Dublin:20230924T100000
DTEND;TZID=Europe/Dublin:20230924T123000
LOCATION:SoEarth Kill
DESCRIPTION: This morning retreat is packed with some beautiful self care practices.

Allow yourself to retreat for a few hours to truly fill your own cup. 

The morning includes

Breathwork
Yoga 
Meditation
Journaling
Treats and Refreshments provided
Places are limited so early booking is advisable.

I hope to see you in the beautiful surroundings of SoEarth for a morning of indulgent self care.

Anita xx
STATUS:CONFIRMED
SEQUENCE:0
END:VEVENT
END:VCALENDAR