BEGIN:VCALENDAR
VERSION:2.0
CALSCALE:GREGORIAN
BEGIN:VEVENT
SUMMARY:Kids (6-12) class AerialSilks/Slings
DTSTART;TZID=Europe/Malta:20211026T163000
DTEND;TZID=Europe/Malta:20211026T173000
LOCATION:Orpheum Theater, Triq Patrick stuart
DESCRIPTION: This class is sustainable for kids between 6 and 12 years old kids, 
your loves one will have a time of recreation learning aerial skills, developing muscles and flexibility, sharing with theirs pears. one hour class.
STATUS:CONFIRMED
SEQUENCE:0
END:VEVENT
END:VCALENDAR