BEGIN:VCALENDAR
VERSION:2.0
CALSCALE:GREGORIAN
BEGIN:VEVENT
SUMMARY:Outdoor wonderful Day! Get flexible and strong :)
DTSTART;TZID=Europe/Malta:20220331T100000
DTEND;TZID=Europe/Malta:20220331T113000
LOCATION:Sliema. Next to surf side (bar)
DESCRIPTION: Only for members of the mima.move comunity. lets have and amazing day on spring. we will get on our mats and move with awareness, focusing our attention on the places where the energy is blocked. With the help of breathing and movement we will try to open the flow of energy, to achieve a healthy and happy body in movement.
STATUS:CONFIRMED
SEQUENCE:0
END:VEVENT
END:VCALENDAR