BEGIN:VCALENDAR
VERSION:2.0
CALSCALE:GREGORIAN
BEGIN:VEVENT
SUMMARY:Hatha Yoga for Peace of Mind with Nadine online
DTSTART;TZID=America/Jamaica:20220609T180000
DTEND;TZID=America/Jamaica:20220609T190000
LOCATION:Afya Studio, 2D Bamboo Ave, Kingston 6
DESCRIPTION: This class takes yoga beyond the body. Using the Himalayan Yoga Tradition approach, students will be guided through asana, relaxing all tension and being prepared for seated meditation.
STATUS:CONFIRMED
SEQUENCE:0
END:VEVENT
END:VCALENDAR