BEGIN:VCALENDAR
VERSION:2.0
CALSCALE:GREGORIAN
BEGIN:VEVENT
SUMMARY:YIN Yoga Class with guest teacher Samara in studio
DTSTART;TZID=America/Jamaica:20220905T100000
DTEND;TZID=America/Jamaica:20220905T111500
LOCATION:Bamboo Healing Village
DESCRIPTION: Prepare yourself for the new week using slow conscious movements and breathwork to relax and heal the mind, body, and spirit!
STATUS:CONFIRMED
SEQUENCE:0
END:VEVENT
END:VCALENDAR