BEGIN:VCALENDAR
VERSION:2.0
CALSCALE:GREGORIAN
BEGIN:VEVENT
SUMMARY:Yoga Dispensary Clinic Series with Trishan Haughton
DTSTART;TZID=America/Jamaica:20220813T140000
DTEND;TZID=America/Jamaica:20220813T180000
LOCATION:Bamboo Healing Village
DESCRIPTION: Chronic Stress 2-3.45 pm
Back Health - 4.15-6pm
 Contact Trishan at 876-281-2225 for details and costs
STATUS:CONFIRMED
SEQUENCE:0
END:VEVENT
END:VCALENDAR