BEGIN:VCALENDAR
VERSION:2.0
CALSCALE:GREGORIAN
BEGIN:VEVENT
SUMMARY:Yoga Dispensary Clinic Series with Trishan Haughton
DTSTART;TZID=America/Jamaica:20220814T110000
DTEND;TZID=America/Jamaica:20220814T130000
LOCATION:Bamboo Healing Village
DESCRIPTION: This two-hour clinic will focus on how to alleviate Insomnia. Please contact Trishan for details 876-281-2225
STATUS:CONFIRMED
SEQUENCE:0
END:VEVENT
END:VCALENDAR