BEGIN:VCALENDAR
VERSION:2.0
CALSCALE:GREGORIAN
BEGIN:VEVENT
SUMMARY:CLASS CANCELLED IN STUDIO TO FACILITATE PREPARATIONS TO RE-LOCATE THE STUDIO TO 4-6 FAIRWAY AVE, kINGSTON 10
DTSTART;TZID=America/Jamaica:20220929T093000
DTEND;TZID=America/Jamaica:20220929T103000
LOCATION:Bamboo Healing Village
DESCRIPTION: 
STATUS:CONFIRMED
SEQUENCE:0
END:VEVENT
END:VCALENDAR