BEGIN:VCALENDAR
VERSION:2.0
CALSCALE:GREGORIAN
BEGIN:VEVENT
SUMMARY:Slow Aligned Vinyasa Yoga with Helga in studio
DTSTART;TZID=America/Jamaica:20230125T120000
DTEND;TZID=America/Jamaica:20230125T125000
LOCATION:4-6 Fairway Ave, Kgn 10 (Corner of Fairway &amp; Seymour Ave(Golden Triangle)
DESCRIPTION: A yoga flow designed to focus on good alignment and attention to the breath during movement. Appropriate for all levels, as modifications offered throughout the class.
STATUS:CONFIRMED
SEQUENCE:0
END:VEVENT
END:VCALENDAR