BEGIN:VCALENDAR
VERSION:2.0
CALSCALE:GREGORIAN
BEGIN:VEVENT
SUMMARY:Soca dance class with Tasha in studio
DTSTART;TZID=America/Jamaica:20221013T163000
DTEND;TZID=America/Jamaica:20221013T173000
LOCATION:Afya studio
DESCRIPTION: A dynamic and challenging workout. Bring water and a towel, and be prepared to sweat and have lots of fun!
STATUS:CONFIRMED
SEQUENCE:0
END:VEVENT
END:VCALENDAR