BEGIN:VCALENDAR
VERSION:2.0
CALSCALE:GREGORIAN
BEGIN:VEVENT
SUMMARY:Lunch time Kundalini Yoga with Tina online
DTSTART;TZID=America/Jamaica:20221025T120000
DTEND;TZID=America/Jamaica:20221025T131500
LOCATION:Online
DESCRIPTION: 
STATUS:CONFIRMED
SEQUENCE:0
END:VEVENT
END:VCALENDAR