BEGIN:VCALENDAR
VERSION:2.0
CALSCALE:GREGORIAN
BEGIN:VEVENT
SUMMARY:OPEN DAY - FREE CLASSES FOR NEW STUDENTS. Cardio and weights with Paula. Purchase a series &amp; enjoy a 10% discount
DTSTART;TZID=America/Jamaica:20230128T150000
DTEND;TZID=America/Jamaica:20230128T160000
LOCATION:4-6 Fairway Ave, Kgn 10 (Corner of Fairway &amp; Seymour Ave (Golden Triangle)
DESCRIPTION: Wear sneakers, bring a small towel and water. Be prepared to sweat and have fun!
STATUS:CONFIRMED
SEQUENCE:0
END:VEVENT
END:VCALENDAR