BEGIN:VCALENDAR
VERSION:2.0
CALSCALE:GREGORIAN
BEGIN:VEVENT
SUMMARY:REPLAY Atelier en ligne Pranayama pour débutant
DTSTART;TZID=Europe/Paris:20250822T160000
DTEND;TZID=Europe/Paris:20250822T170000
LOCATION:ONLINE
DESCRIPTION: Tu entends souvent que pratiquer le yoga c&amp;#039;est &amp;#34;écouter sa respiration&amp;#34;, “se connecter au souffle&amp;#34; ? Tout cela te parait abstrait, voire même ennuyeux ? Pourtant aujourd&amp;#039;hui, le pouvoir du souffle et d&amp;#039;une respiration consciente est de plus en plus reconnu comme bénéfique, voire même thérapeutique.

Si tu as envie de découvrir pourquoi “se connecter au corps subtil&amp;#34; procure tant de bien-être, cet atelier est pour toi ! Il te permettra d&amp;#039;approfondir tes connaissances et ta pratique, qu&amp;#039;elle soit physique (yoga doux ou dynamique) ou spirituelle (méditation). 

Le Pranayama, c&amp;#039;est quoi?
Dans cet atelier en ligne, nous explorerons ensemble une courte pratique physique,  à travers des mouvements doux et accessibles, avant de découvrir différentes techniques respiratoires yogiques pour “réapprendre à respirer&amp;#34; et te permettre d&amp;#039;utiliser ton souffle pour activer, équilibrer, calmer. Enfin, nous clôturerons cet atelier par un moment d&amp;#039;intégration et de relaxation.

Durée : environ 1h20 - Tous niveaux - aucune pratique préalable nécessaire.

Atelier yoga en ligne pour apprendre à respirer et découvrir le pouvoir du souffle - un contenu PDF est fourni pour accompagner cet atelier.
Pas besoin d&amp;#039;être un yogi pour réaliser ce cours en ligne. Tu as juste besoin d&amp;#039;un coussin pour t&amp;#039;assoir, un tapis de yoga et une couverture. Laisse-toi guider !
STATUS:CONFIRMED
SEQUENCE:0
END:VEVENT
END:VCALENDAR