BEGIN:VCALENDAR
VERSION:2.0
CALSCALE:GREGORIAN
BEGIN:VEVENT
SUMMARY:ATELIER en ligne : ASANAS &amp; DIEUX DE L&#039;INDE
DTSTART;TZID=Europe/Paris:20251105T190000
DTEND;TZID=Europe/Paris:20251105T213000
LOCATION:ONLINE (replay illimité 30 jours)
DESCRIPTION: Tu as envie d&#039;en savoir plus sur l&#039;histoire des postures, d&#039;en découvrir de nouvelles, d’avoir une pratique plus complète du yoga? Cet atelier est pour toi !
Cet atelier est construit comme un moment convivial pour celles et ceux qui restent sur leur faim quand ils entendent les noms de postures et ont envie de donner du sens à leur pratique sur le tapis.

Au programme : pratique posturale + étude théorique
Matériel : tapis, bloc et sangles et de quoi prendre quelques notes si vous le souhaitez.
durée environ 2h
Adapté aux débutants et aux pratiquants confirmés. 
Contenu PDF délivré après l&#039;atelier
replay dispo 30 jours
STATUS:CONFIRMED
SEQUENCE:0
END:VEVENT
END:VCALENDAR