BEGIN:VCALENDAR
VERSION:2.0
CALSCALE:GREGORIAN
BEGIN:VEVENT
SUMMARY:CHRISTMAS YIN YOGA - Mae DK
DTSTART;TZID=Europe/Paris:20251225T181500
DTEND;TZID=Europe/Paris:20251225T191500
LOCATION:Mae Yoga Studio - Dunkerque
DESCRIPTION: Cours d&#039;1 heure : Le cours de Yin Yoga est une pratique douce et méditative qui se concentre sur des postures tenues pendant plusieurs minutes, visant à stimuler les tissus conjonctifs profonds comme les ligaments, les fascias et les articulations. En relâchant les muscles et en restant dans chaque posture, on favorise une meilleure circulation d&#039;énergie dans le corps et une plus grande flexibilité.

Mae Yoga studio à Dunkerque, rue Bel air
réservation auprès du studio directement
STATUS:CONFIRMED
SEQUENCE:0
END:VEVENT
END:VCALENDAR