BEGIN:VCALENDAR
VERSION:2.0
CALSCALE:GREGORIAN
BEGIN:VEVENT
SUMMARY:Hatha Yoga
DTSTART;TZID=Europe/Amsterdam:20260326T190000
DTEND;TZID=Europe/Amsterdam:20260326T202000
LOCATION:Bilderdijkstraat 78 - Utrecht
DESCRIPTION: 
STATUS:CONFIRMED
SEQUENCE:0
END:VEVENT
END:VCALENDAR