BEGIN:VCALENDAR
VERSION:2.0
CALSCALE:GREGORIAN
BEGIN:VEVENT
SUMMARY:Hatha Yoga (koningsdag)
DTSTART;TZID=Europe/Amsterdam:20260427T190000
DTEND;TZID=Europe/Amsterdam:20260427T202500
LOCATION:Bilderdijkstraat 78 - Utrecht
DESCRIPTION: 
STATUS:CONFIRMED
SEQUENCE:0
END:VEVENT
END:VCALENDAR