BEGIN:VCALENDAR
VERSION:2.0
CALSCALE:GREGORIAN
BEGIN:VEVENT
SUMMARY:Hatha Yoga (rustig)
DTSTART;TZID=Europe/Amsterdam:20260421T193000
DTEND;TZID=Europe/Amsterdam:20260421T210000
LOCATION:Bilderdijkstraat 78 - Utrecht
DESCRIPTION: Rustige (yin/tha) les.
STATUS:CONFIRMED
SEQUENCE:0
END:VEVENT
END:VCALENDAR